Workbook

Sheet главная
AA1: 1 | AB1: =AA1+1 -> 2 | AC1: =AB1+1 -> 3 | AD1: =AC1+1 -> 4 | AE1: =AD1+1 -> 5 | AF1: =AE1+1 -> 6 | AG1: =AF1+1 -> 7 | AH1: =AG1+1 -> 8 | AI1: =AH1+1 -> 9 | ... AP1: =AO1+1 -> 16
D2: Экспресс Финмодель Бизнес-Проекта
D3: Бизнес-Проект: Название
W5: +7(985)201-6607 | AA5: 1-ый год
E6: комментарий | H6: показатель | N6: детализация | Q6: ед.изм. | T6: значение | W6: итого | Z6: старт | AA6: =IF(OR($T$9="",$T$9=0),"",$T$9) | AB6: =IF(AA6="","",IF(AA6-$T$9+1>=$T$11,"",AA6+1)) | AC6: =IF(AB6="","",IF(AB6-$T$9+1>=$T$11,"",AB6+1)) | AD6: =IF(AC6="","",IF(AC6-$T$9+1>=$T$11,"",AC6+1)) | AE6: =IF(AD6="","",IF(AD6-$T$9+1>=$T$11,"",AD6+1)) | AF6: =IF(AE6="","",IF(AE6-$T$9+1>=$T$11,"",AE6+1)) | AG6: =IF(AF6="","",IF(AF6-$T$9+1>=$T$11,"",AF6+1)) | AH6: =IF(AG6="","",IF(AG6-$T$9+1>=$T$11,"",AG6+1)) | AI6: =IF(AH6="","",IF(AH6-$T$9+1>=$T$11,"",AH6+1)) | ... AP6: =IF(AO6="","",IF(AO6-$T$9+1>=$T$11,"",AO6+1))
G9: * | H9: первый год проекта | Q9: год | S9: *
G11: * | H11: горизонт расчетов | Q11: кол-во лет | S11: *
F13: 0
F14: 0 | G14: * | H14: выручка | N14: итого | Q14: руб. | W14: =SUM($Y14:$AQ14) -> 0 | AA14: =IF(AA$6="",0,SUMIFS(AA15:AA84,$H15:$H84,$H14)) -> 0 | AB14: =IF(AB$6="",0,SUMIFS(AB15:AB84,$H15:$H84,$H14)) -> 0 | AC14: =IF(AC$6="",0,SUMIFS(AC15:AC84,$H15:$H84,$H14)) -> 0 | AD14: =IF(AD$6="",0,SUMIFS(AD15:AD84,$H15:$H84,$H14)) -> 0 | AE14: =IF(AE$6="",0,SUMIFS(AE15:AE84,$H15:$H84,$H14)) -> 0 | AF14: =IF(AF$6="",0,SUMIFS(AF15:AF84,$H15:$H84,$H14)) -> 0 | AG14: =IF(AG$6="",0,SUMIFS(AG15:AG84,$H15:$H84,$H14)) -> 0 | AH14: =IF(AH$6="",0,SUMIFS(AH15:AH84,$H15:$H84,$H14)) -> 0 | ... AP14: =IF(AP$6="",0,SUMIFS(AP15:AP84,$H15:$H84,$H14)) -> 0
F15: 0
F16: 0
G17: * | I17: кол-во продаж продукта-1 в 1-ый год | M17: * | N17: продукт-1 | Q17: шт | S17: *
G19: * | I19: скорость прироста г/г | Q19: вып.список | S19: * | U19: ^
G21: * | I21: коэффициент (q) прироста | Q21: =IF(T19=справочники!$B$8,"a+qx",IF(T19=справочники!$B$9,"aq^x",IF(T19=справочники!$B$10,"a^(qx)","??"))) -> ?? | S21: *
F23: 2 | G23: * | I23: кол-во продаж продукта-1 | Q23: шт | AA23: =IF(AA$6="",0,$T17) -> 0 | AB23: =IF(AB$6="",0,IF($T19=справочники!$B$8,$T17+$T21*(AB$1-$AA$1),IF($T19=справочники!$B$9,$T17*POWER($T21,(AB$1-$AA$1)),IF($T19=справочники!$B$10,POWER($T17,$T21*(AB$1-$AA$1)),0)))) -> 0 | AC23: =IF(AC$6="",0,IF($T19=справочники!$B$8,$T17+$T21*(AC$1-$AA$1),IF($T19=справочники!$B$9,$T17*POWER($T21,(AC$1-$AA$1)),IF($T19=справочники!$B$10,POWER($T17,$T21*(AC$1-$AA$1)),0)))) -> 0 | AD23: =IF(AD$6="",0,IF($T19=справочники!$B$8,$T17+$T21*(AD$1-$AA$1),IF($T19=справочники!$B$9,$T17*POWER($T21,(AD$1-$AA$1)),IF($T19=справочники!$B$10,POWER($T17,$T21*(AD$1-$AA$1)),0)))) -> 0 | AE23: =IF(AE$6="",0,IF($T19=справочники!$B$8,$T17+$T21*(AE$1-$AA$1),IF($T19=справочники!$B$9,$T17*POWER($T21,(AE$1-$AA$1)),IF($T19=справочники!$B$10,POWER($T17,$T21*(AE$1-$AA$1)),0)))) -> 0 | AF23: =IF(AF$6="",0,IF($T19=справочники!$B$8,$T17+$T21*(AF$1-$AA$1),IF($T19=справочники!$B$9,$T17*POWER($T21,(AF$1-$AA$1)),IF($T19=справочники!$B$10,POWER($T17,$T21*(AF$1-$AA$1)),0)))) -> 0 | AG23: =IF(AG$6="",0,IF($T19=справочники!$B$8,$T17+$T21*(AG$1-$AA$1),IF($T19=справочники!$B$9,$T17*POWER($T21,(AG$1-$AA$1)),IF($T19=справочники!$B$10,POWER($T17,$T21*(AG$1-$AA$1)),0)))) -> 0 | AH23: =IF(AH$6="",0,IF($T19=справочники!$B$8,$T17+$T21*(AH$1-$AA$1),IF($T19=справочники!$B$9,$T17*POWER($T21,(AH$1-$AA$1)),IF($T19=справочники!$B$10,POWER($T17,$T21*(AH$1-$AA$1)),0)))) -> 0 | AI23: =IF(AI$6="",0,IF($T19=справочники!$B$8,$T17+$T21*(AI$1-$AA$1),IF($T19=справочники!$B$9,$T17*POWER($T21,(AI$1-$AA$1)),IF($T19=справочники!$B$10,POWER($T17,$T21*(AI$1-$AA$1)),0)))) -> 0 | ... AP23: =IF(AP$6="",0,IF($T19=справочники!$B$8,$T17+$T21*(AP$1-$AA$1),IF($T19=справочники!$B$9,$T17*POWER($T21,(AP$1-$AA$1)),IF($T19=справочники!$B$10,POWER($T17,$T21*(AP$1-$AA$1)),0)))) -> 0
G25: * | I25: средний чек в 1-ый год | M25: * | N25: ср. ст-ть 1ой единицы продукта-1 | Q25: руб. | S25: *
G27: * | I27: среднегодовой процент индексации | Q27: % | S27: *
F29: 2 | G29: * | I29: средний чек | N29: =N25 -> ср. ст-ть 1ой единицы продукта-1 | Q29: руб. | AA29: =IF(AA$6="",0,$T25) -> 0 | AB29: =IF(AB$6="",0,$T25*POWER(1+$T27,(AB$1-$AA$1))) -> 0 | AC29: =IF(AC$6="",0,$T25*POWER(1+$T27,(AC$1-$AA$1))) -> 0 | AD29: =IF(AD$6="",0,$T25*POWER(1+$T27,(AD$1-$AA$1))) -> 0 | AE29: =IF(AE$6="",0,$T25*POWER(1+$T27,(AE$1-$AA$1))) -> 0 | AF29: =IF(AF$6="",0,$T25*POWER(1+$T27,(AF$1-$AA$1))) -> 0 | AG29: =IF(AG$6="",0,$T25*POWER(1+$T27,(AG$1-$AA$1))) -> 0 | AH29: =IF(AH$6="",0,$T25*POWER(1+$T27,(AH$1-$AA$1))) -> 0 | AI29: =IF(AI$6="",0,$T25*POWER(1+$T27,(AI$1-$AA$1))) -> 0 | ... AP29: =IF(AP$6="",0,$T25*POWER(1+$T27,(AP$1-$AA$1))) -> 0
F30: 1
F31: 1 | H31: =$H$14 -> выручка | M31: * | N31: выручка от продажи продукта-1 | Q31: руб. | W31: =SUM($Y31:$AQ31) -> 0 | AA31: =IF(AA$6="",0,AA23*AA29) -> 0 | AB31: =IF(AB$6="",0,AB23*AB29) -> 0 | AC31: =IF(AC$6="",0,AC23*AC29) -> 0 | AD31: =IF(AD$6="",0,AD23*AD29) -> 0 | AE31: =IF(AE$6="",0,AE23*AE29) -> 0 | AF31: =IF(AF$6="",0,AF23*AF29) -> 0 | AG31: =IF(AG$6="",0,AG23*AG29) -> 0 | AH31: =IF(AH$6="",0,AH23*AH29) -> 0 | ... AP31: =IF(AP$6="",0,AP23*AP29) -> 0
F32: 1
F33: 1
G34: * | I34: кол-во продаж продукта-2 в 1-ый год | M34: * | N34: продукт-2 | Q34: шт | S34: *
G36: * | I36: скорость прироста г/г | Q36: вып.список | S36: * | U36: ^
G38: * | I38: коэффициент (q) прироста | Q38: =IF(T36=справочники!$B$8,"a+qx",IF(T36=справочники!$B$9,"aq^x",IF(T36=справочники!$B$10,"a^(qx)","??"))) -> ?? | S38: *
F40: 2 | G40: * | I40: кол-во продаж продукта-2 | Q40: шт | AA40: =IF(AA$6="",0,$T34) -> 0 | AB40: =IF(AB$6="",0,IF($T36=справочники!$B$8,$T34+$T38*(AB$1-$AA$1),IF($T36=справочники!$B$9,$T34*POWER($T38,(AB$1-$AA$1)),IF($T36=справочники!$B$10,POWER($T34,$T38*(AB$1-$AA$1)),0)))) -> 0 | AC40: =IF(AC$6="",0,IF($T36=справочники!$B$8,$T34+$T38*(AC$1-$AA$1),IF($T36=справочники!$B$9,$T34*POWER($T38,(AC$1-$AA$1)),IF($T36=справочники!$B$10,POWER($T34,$T38*(AC$1-$AA$1)),0)))) -> 0 | AD40: =IF(AD$6="",0,IF($T36=справочники!$B$8,$T34+$T38*(AD$1-$AA$1),IF($T36=справочники!$B$9,$T34*POWER($T38,(AD$1-$AA$1)),IF($T36=справочники!$B$10,POWER($T34,$T38*(AD$1-$AA$1)),0)))) -> 0 | AE40: =IF(AE$6="",0,IF($T36=справочники!$B$8,$T34+$T38*(AE$1-$AA$1),IF($T36=справочники!$B$9,$T34*POWER($T38,(AE$1-$AA$1)),IF($T36=справочники!$B$10,POWER($T34,$T38*(AE$1-$AA$1)),0)))) -> 0 | AF40: =IF(AF$6="",0,IF($T36=справочники!$B$8,$T34+$T38*(AF$1-$AA$1),IF($T36=справочники!$B$9,$T34*POWER($T38,(AF$1-$AA$1)),IF($T36=справочники!$B$10,POWER($T34,$T38*(AF$1-$AA$1)),0)))) -> 0 | AG40: =IF(AG$6="",0,IF($T36=справочники!$B$8,$T34+$T38*(AG$1-$AA$1),IF($T36=справочники!$B$9,$T34*POWER($T38,(AG$1-$AA$1)),IF($T36=справочники!$B$10,POWER($T34,$T38*(AG$1-$AA$1)),0)))) -> 0 | AH40: =IF(AH$6="",0,IF($T36=справочники!$B$8,$T34+$T38*(AH$1-$AA$1),IF($T36=справочники!$B$9,$T34*POWER($T38,(AH$1-$AA$1)),IF($T36=справочники!$B$10,POWER($T34,$T38*(AH$1-$AA$1)),0)))) -> 0 | AI40: =IF(AI$6="",0,IF($T36=справочники!$B$8,$T34+$T38*(AI$1-$AA$1),IF($T36=справочники!$B$9,$T34*POWER($T38,(AI$1-$AA$1)),IF($T36=справочники!$B$10,POWER($T34,$T38*(AI$1-$AA$1)),0)))) -> 0 | ... AP40: =IF(AP$6="",0,IF($T36=справочники!$B$8,$T34+$T38*(AP$1-$AA$1),IF($T36=справочники!$B$9,$T34*POWER($T38,(AP$1-$AA$1)),IF($T36=справочники!$B$10,POWER($T34,$T38*(AP$1-$AA$1)),0)))) -> 0
G42: * | I42: средний чек в 1-ый год | M42: * | N42: ср. ст-ть 1ой единицы продукта-2 | Q42: руб. | S42: *
G44: * | I44: среднегодовой процент индексации | Q44: % | S44: *
F46: 2 | G46: * | I46: средний чек | N46: =N42 -> ср. ст-ть 1ой единицы продукта-2 | Q46: руб. | AA46: =IF(AA$6="",0,$T42) -> 0 | AB46: =IF(AB$6="",0,$T42*POWER(1+$T44,(AB$1-$AA$1))) -> 0 | AC46: =IF(AC$6="",0,$T42*POWER(1+$T44,(AC$1-$AA$1))) -> 0 | AD46: =IF(AD$6="",0,$T42*POWER(1+$T44,(AD$1-$AA$1))) -> 0 | AE46: =IF(AE$6="",0,$T42*POWER(1+$T44,(AE$1-$AA$1))) -> 0 | AF46: =IF(AF$6="",0,$T42*POWER(1+$T44,(AF$1-$AA$1))) -> 0 | AG46: =IF(AG$6="",0,$T42*POWER(1+$T44,(AG$1-$AA$1))) -> 0 | AH46: =IF(AH$6="",0,$T42*POWER(1+$T44,(AH$1-$AA$1))) -> 0 | AI46: =IF(AI$6="",0,$T42*POWER(1+$T44,(AI$1-$AA$1))) -> 0 | ... AP46: =IF(AP$6="",0,$T42*POWER(1+$T44,(AP$1-$AA$1))) -> 0
F47: 1
F48: 1 | H48: =$H$14 -> выручка | M48: * | N48: выручка от продажи продукта-2 | Q48: руб. | W48: =SUM($Y48:$AQ48) -> 0 | AA48: =IF(AA$6="",0,AA40*AA46) -> 0 | AB48: =IF(AB$6="",0,AB40*AB46) -> 0 | AC48: =IF(AC$6="",0,AC40*AC46) -> 0 | AD48: =IF(AD$6="",0,AD40*AD46) -> 0 | AE48: =IF(AE$6="",0,AE40*AE46) -> 0 | AF48: =IF(AF$6="",0,AF40*AF46) -> 0 | AG48: =IF(AG$6="",0,AG40*AG46) -> 0 | AH48: =IF(AH$6="",0,AH40*AH46) -> 0 | ... AP48: =IF(AP$6="",0,AP40*AP46) -> 0
F49: 1
F50: 1
G51: * | I51: кол-во продаж продукта-3 в 1-ый год | M51: * | N51: продукт-3 | Q51: шт | S51: *
G53: * | I53: скорость прироста г/г | Q53: вып.список | S53: * | U53: ^
G55: * | I55: коэффициент (q) прироста | Q55: =IF(T53=справочники!$B$8,"a+qx",IF(T53=справочники!$B$9,"aq^x",IF(T53=справочники!$B$10,"a^(qx)","??"))) -> ?? | S55: *
F57: 2 | G57: * | I57: кол-во продаж продукта-3 | Q57: шт | AA57: =IF(AA$6="",0,$T51) -> 0 | AB57: =IF(AB$6="",0,IF($T53=справочники!$B$8,$T51+$T55*(AB$1-$AA$1),IF($T53=справочники!$B$9,$T51*POWER($T55,(AB$1-$AA$1)),IF($T53=справочники!$B$10,POWER($T51,$T55*(AB$1-$AA$1)),0)))) -> 0 | AC57: =IF(AC$6="",0,IF($T53=справочники!$B$8,$T51+$T55*(AC$1-$AA$1),IF($T53=справочники!$B$9,$T51*POWER($T55,(AC$1-$AA$1)),IF($T53=справочники!$B$10,POWER($T51,$T55*(AC$1-$AA$1)),0)))) -> 0 | AD57: =IF(AD$6="",0,IF($T53=справочники!$B$8,$T51+$T55*(AD$1-$AA$1),IF($T53=справочники!$B$9,$T51*POWER($T55,(AD$1-$AA$1)),IF($T53=справочники!$B$10,POWER($T51,$T55*(AD$1-$AA$1)),0)))) -> 0 | AE57: =IF(AE$6="",0,IF($T53=справочники!$B$8,$T51+$T55*(AE$1-$AA$1),IF($T53=справочники!$B$9,$T51*POWER($T55,(AE$1-$AA$1)),IF($T53=справочники!$B$10,POWER($T51,$T55*(AE$1-$AA$1)),0)))) -> 0 | AF57: =IF(AF$6="",0,IF($T53=справочники!$B$8,$T51+$T55*(AF$1-$AA$1),IF($T53=справочники!$B$9,$T51*POWER($T55,(AF$1-$AA$1)),IF($T53=справочники!$B$10,POWER($T51,$T55*(AF$1-$AA$1)),0)))) -> 0 | AG57: =IF(AG$6="",0,IF($T53=справочники!$B$8,$T51+$T55*(AG$1-$AA$1),IF($T53=справочники!$B$9,$T51*POWER($T55,(AG$1-$AA$1)),IF($T53=справочники!$B$10,POWER($T51,$T55*(AG$1-$AA$1)),0)))) -> 0 | AH57: =IF(AH$6="",0,IF($T53=справочники!$B$8,$T51+$T55*(AH$1-$AA$1),IF($T53=справочники!$B$9,$T51*POWER($T55,(AH$1-$AA$1)),IF($T53=справочники!$B$10,POWER($T51,$T55*(AH$1-$AA$1)),0)))) -> 0 | AI57: =IF(AI$6="",0,IF($T53=справочники!$B$8,$T51+$T55*(AI$1-$AA$1),IF($T53=справочники!$B$9,$T51*POWER($T55,(AI$1-$AA$1)),IF($T53=справочники!$B$10,POWER($T51,$T55*(AI$1-$AA$1)),0)))) -> 0 | ... AP57: =IF(AP$6="",0,IF($T53=справочники!$B$8,$T51+$T55*(AP$1-$AA$1),IF($T53=справочники!$B$9,$T51*POWER($T55,(AP$1-$AA$1)),IF($T53=справочники!$B$10,POWER($T51,$T55*(AP$1-$AA$1)),0)))) -> 0
G59: * | I59: средний чек в 1-ый год | M59: * | N59: ср. ст-ть 1ого продукта-3 | Q59: руб. | S59: *
G61: * | I61: среднегодовой процент индексации | Q61: % | S61: *
F63: 2 | G63: * | I63: средний чек | N63: =N59 -> ср. ст-ть 1ого продукта-3 | Q63: руб. | AA63: =IF(AA$6="",0,$T59) -> 0 | AB63: =IF(AB$6="",0,$T59*POWER(1+$T61,(AB$1-$AA$1))) -> 0 | AC63: =IF(AC$6="",0,$T59*POWER(1+$T61,(AC$1-$AA$1))) -> 0 | AD63: =IF(AD$6="",0,$T59*POWER(1+$T61,(AD$1-$AA$1))) -> 0 | AE63: =IF(AE$6="",0,$T59*POWER(1+$T61,(AE$1-$AA$1))) -> 0 | AF63: =IF(AF$6="",0,$T59*POWER(1+$T61,(AF$1-$AA$1))) -> 0 | AG63: =IF(AG$6="",0,$T59*POWER(1+$T61,(AG$1-$AA$1))) -> 0 | AH63: =IF(AH$6="",0,$T59*POWER(1+$T61,(AH$1-$AA$1))) -> 0 | AI63: =IF(AI$6="",0,$T59*POWER(1+$T61,(AI$1-$AA$1))) -> 0 | ... AP63: =IF(AP$6="",0,$T59*POWER(1+$T61,(AP$1-$AA$1))) -> 0
...

Sheet справочники
B2: =главная!D2 -> Экспресс Финмодель Бизнес-Проекта
B3: =главная!D3 -> Бизнес-Проект: Название
B4: Справочники
B6: скорость прироста | E6: тип зависимости перем. расходов
B8: линейная | E8: от количества продаж
B9: геометрическая | E9: % от стоимости продаж
B10: экспоненциальная
